BEGIN:VCALENDAR
VERSION:2.0
PRODID:-//Plone.org//NONSGML plone.app.event//EN
X-WR-TIMEZONE:America/Los_Angeles
BEGIN:VEVENT
SUMMARY:California's Cap-and-Trade: Strategies for effective market partic
 ipation
DTSTART;VALUE=DATE:20130717
DTEND;VALUE=DATE:20130718
DTSTAMP;VALUE=DATE-TIME:20230513T071916Z
UID:fe2cad26fdab4a51afe6ad124071b2c4@acr2.solitonconsulting.com
CREATED;VALUE=DATE-TIME:20131213T215336Z
LAST-MODIFIED;VALUE=DATE-TIME:20140817T180558Z
LOCATION:Sacramento\, California
URL:https://americancarbonregistry.org/news-events/events/workshop-califor
 nias-cap-and-trade-strategies-for-effective-market-participation
END:VEVENT
END:VCALENDAR
