BEGIN:VCALENDAR
VERSION:2.0
PRODID:-//Plone.org//NONSGML plone.app.event//EN
X-WR-TIMEZONE:America/Los_Angeles
BEGIN:VEVENT
SUMMARY:Webinar: Stakeholder outreach for Emissions Reduction Measurement 
 and Monitoring Methodology for Destruction of Ozone Depleting Substances a
 nd High GWP Foam
DTSTART;TZID=America/Los_Angeles;VALUE=DATE-TIME:20160518T100000
DTEND;TZID=America/Los_Angeles;VALUE=DATE-TIME:20160518T113000
DTSTAMP;VALUE=DATE-TIME:20230513T071927Z
UID:fb3ffd91578446dfae4262dbc6e4aaa3@americancarbonregistry.org
CONTACT:https://attendee.gotowebinar.com/register/2336095346378224900
CREATED;VALUE=DATE-TIME:20160429T195254Z
LAST-MODIFIED;VALUE=DATE-TIME:20160805T223311Z
URL:https://americancarbonregistry.org/news-events/events/webinar-stakehol
 der-outreach-for-emissions-reduction-measurement-and-monitoring-methodolog
 y-for-destruction-of-ozone-depleting-substances-and-high-gwp-foam
END:VEVENT
BEGIN:VTIMEZONE
TZID:America/Los_Angeles
X-LIC-LOCATION:America/Los_Angeles
BEGIN:DAYLIGHT
DTSTART;VALUE=DATE-TIME:20160313T030000
TZNAME:PDT
TZOFFSETFROM:-0800
TZOFFSETTO:-0700
END:DAYLIGHT
END:VTIMEZONE
END:VCALENDAR
