BEGIN:VCALENDAR
VERSION:2.0
PRODID:-//Plone.org//NONSGML plone.app.event//EN
X-WR-TIMEZONE:America/Los_Angeles
BEGIN:VEVENT
SUMMARY:Webinar: ACR invites stakeholder feedback on a new methodology for
  California Wetlands Restoration
DTSTART;TZID=America/Los_Angeles;VALUE=DATE-TIME:20160114T110000
DTEND;TZID=America/Los_Angeles;VALUE=DATE-TIME:20160114T123000
DTSTAMP;VALUE=DATE-TIME:20230513T071938Z
UID:4c3b58dc1d244441ac1cf17220c0b3fc@americancarbonregistry.org
CREATED;VALUE=DATE-TIME:20160110T235818Z
LAST-MODIFIED;VALUE=DATE-TIME:20160111T000059Z
LOCATION:Online
URL:https://americancarbonregistry.org/news-events/events/webinar-acr-invi
 tes-stakeholder-feedback-on-a-new-methodology-for-california-wetlands-rest
 oration
END:VEVENT
BEGIN:VTIMEZONE
TZID:America/Los_Angeles
X-LIC-LOCATION:America/Los_Angeles
BEGIN:STANDARD
DTSTART;VALUE=DATE-TIME:20151101T010000
TZNAME:PST
TZOFFSETFROM:-0700
TZOFFSETTO:-0800
END:STANDARD
END:VTIMEZONE
END:VCALENDAR
