BEGIN:VCALENDAR
VERSION:2.0
PRODID:-//Plone.org//NONSGML plone.app.event//EN
X-WR-TIMEZONE:America/Los_Angeles
BEGIN:VEVENT
SUMMARY:UNFCCC Conference of the Parties (COP 22) Marrakech\, Morocco
DTSTART;TZID=America/Los_Angeles;VALUE=DATE-TIME:20161106T090000
DTEND;TZID=America/Los_Angeles;VALUE=DATE-TIME:20161118T200000
DTSTAMP;VALUE=DATE-TIME:20230513T071925Z
UID:197241791b094fb395164fe2a2b40122@americancarbonregistry.org
CREATED;VALUE=DATE-TIME:20161030T161920Z
LAST-MODIFIED;VALUE=DATE-TIME:20161030T162213Z
LOCATION:Marrakech\, Morocco
URL:https://americancarbonregistry.org/news-events/events/unfccc-conferenc
 e-of-the-parties-22
END:VEVENT
BEGIN:VTIMEZONE
TZID:America/Los_Angeles
X-LIC-LOCATION:America/Los_Angeles
BEGIN:STANDARD
DTSTART;VALUE=DATE-TIME:20161106T010000
TZNAME:PST
TZOFFSETFROM:-0700
TZOFFSETTO:-0800
END:STANDARD
END:VTIMEZONE
END:VCALENDAR
