BEGIN:VCALENDAR
VERSION:2.0
PRODID:-//Plone.org//NONSGML plone.app.event//EN
X-WR-TIMEZONE:America/Los_Angeles
BEGIN:VEVENT
SUMMARY:Stakeholder outreach for Methodology for Use of Reclaimed HFC Refr
 igerants and Advanced Refrigeration Systems
DTSTART;TZID=America/Los_Angeles;VALUE=DATE-TIME:20150401T110000
DTEND;TZID=America/Los_Angeles;VALUE=DATE-TIME:20150401T120000
DTSTAMP;VALUE=DATE-TIME:20230513T071931Z
UID:00d54aa4a57b40a882f4f1ddc46e67b7@americancarbonregistry.org
CREATED;VALUE=DATE-TIME:20150315T162941Z
LAST-MODIFIED;VALUE=DATE-TIME:20150315T163203Z
LOCATION:online
URL:https://americancarbonregistry.org/news-events/events/stakeholder-outr
 each-for-methodology-for-use-of-reclaimed-hfc-refrigerants-and-advanced-re
 frigeration-systems
END:VEVENT
BEGIN:VTIMEZONE
TZID:America/Los_Angeles
X-LIC-LOCATION:America/Los_Angeles
BEGIN:DAYLIGHT
DTSTART;VALUE=DATE-TIME:20150308T030000
TZNAME:PDT
TZOFFSETFROM:-0800
TZOFFSETTO:-0700
END:DAYLIGHT
END:VTIMEZONE
END:VCALENDAR
