BEGIN:VCALENDAR
VERSION:2.0
PRODID:-//Plone.org//NONSGML plone.app.event//EN
X-WR-TIMEZONE:America/Los_Angeles
BEGIN:VEVENT
SUMMARY:Webinar: Review of Regulatory Updates to ARB US Forestry Complianc
 e Offset Protocol
DTSTART;VALUE=DATE:20141014
DTEND;VALUE=DATE:20141015
DTSTAMP;VALUE=DATE-TIME:20230513T071941Z
UID:633a33b388104944a4e9856dcffbee55@americancarbonregistry.org
CREATED;VALUE=DATE-TIME:20140924T221504Z
LAST-MODIFIED;VALUE=DATE-TIME:20140930T003003Z
LOCATION:Online
URL:https://americancarbonregistry.org/news-events/events/review-of-us-for
 estry-compliance-offset-protocol-updates
END:VEVENT
END:VCALENDAR
