BEGIN:VCALENDAR
VERSION:2.0
PRODID:-//Plone.org//NONSGML plone.app.event//EN
X-WR-TIMEZONE:America/Los_Angeles
BEGIN:VEVENT
SUMMARY:REDD Offset Working Group Recommendations for Linkages with Califo
 rnia’s Cap-and-Trade Program
DTSTART;TZID=America/Los_Angeles;VALUE=DATE-TIME:20130206T110000
DTEND;TZID=America/Los_Angeles;VALUE=DATE-TIME:20130206T120000
DTSTAMP;VALUE=DATE-TIME:20230513T071857Z
UID:eb0f6968152240ffa651c39a5d2851fe@acr2.solitonconsulting.com
CREATED;VALUE=DATE-TIME:20140817T181736Z
LAST-MODIFIED;VALUE=DATE-TIME:20140817T181749Z
LOCATION:Online
URL:https://americancarbonregistry.org/news-events/events/redd-offset-work
 ing-group-recommendations-for-linkages-with-california2019s-cap-and-trade-
 program
END:VEVENT
BEGIN:VTIMEZONE
TZID:America/Los_Angeles
X-LIC-LOCATION:America/Los_Angeles
BEGIN:STANDARD
DTSTART;VALUE=DATE-TIME:20121104T010000
TZNAME:PST
TZOFFSETFROM:-0700
TZOFFSETTO:-0800
END:STANDARD
END:VTIMEZONE
END:VCALENDAR
