BEGIN:VCALENDAR
VERSION:2.0
PRODID:-//Plone.org//NONSGML plone.app.event//EN
X-WR-TIMEZONE:America/Los_Angeles
BEGIN:VEVENT
SUMMARY:Ontario Cap and Trade Forum
DTSTART;VALUE=DATE:20170426
DTEND;VALUE=DATE:20170428
DTSTAMP;VALUE=DATE-TIME:20230513T071934Z
UID:aaa9fb23ca854a94b3ff60a5914a57a5@americancarbonregistry.org
CREATED;VALUE=DATE-TIME:20170328T160443Z
LAST-MODIFIED;VALUE=DATE-TIME:20170328T160906Z
LOCATION:Toronto\, Ontario
URL:https://americancarbonregistry.org/news-events/events/ontario-cap-and-
 trade-forum
END:VEVENT
END:VCALENDAR
