BEGIN:VCALENDAR
VERSION:2.0
PRODID:-//Plone.org//NONSGML plone.app.event//EN
X-WR-TIMEZONE:America/Los_Angeles
BEGIN:VEVENT
SUMMARY:Climate Leadership Conference
DTSTART;TZID=America/Los_Angeles;VALUE=DATE-TIME:20150223T080000
DTEND;TZID=America/Los_Angeles;VALUE=DATE-TIME:20150225T180000
DTSTAMP;VALUE=DATE-TIME:20230513T071919Z
UID:76795501f64d4b719a199dfad121be04@americancarbonregistry.org
CREATED;VALUE=DATE-TIME:20141016T003435Z
LAST-MODIFIED;VALUE=DATE-TIME:20150315T163051Z
LOCATION:Washington D.C.
URL:https://americancarbonregistry.org/news-events/events/climate-leadersh
 ip-conference
END:VEVENT
BEGIN:VTIMEZONE
TZID:America/Los_Angeles
X-LIC-LOCATION:America/Los_Angeles
BEGIN:STANDARD
DTSTART;VALUE=DATE-TIME:20141102T010000
TZNAME:PST
TZOFFSETFROM:-0700
TZOFFSETTO:-0800
END:STANDARD
END:VTIMEZONE
END:VCALENDAR
