BEGIN:VCALENDAR
VERSION:2.0
PRODID:-//Plone.org//NONSGML plone.app.event//EN
X-WR-TIMEZONE:America/Los_Angeles
BEGIN:VEVENT
SUMMARY:Carbon Expo 2015
DTSTART;TZID=America/Los_Angeles;VALUE=DATE-TIME:20150526T120000
DTEND;TZID=America/Los_Angeles;VALUE=DATE-TIME:20150528T130000
DTSTAMP;VALUE=DATE-TIME:20230513T071923Z
UID:411fb5be8de74b6c92193b190ddf8a82@americancarbonregistry.org
CREATED;VALUE=DATE-TIME:20141118T204049Z
LAST-MODIFIED;VALUE=DATE-TIME:20150626T202906Z
LOCATION:Barcelona\, Spain
URL:https://americancarbonregistry.org/news-events/events/carbonexpo-2015
END:VEVENT
BEGIN:VTIMEZONE
TZID:America/Los_Angeles
X-LIC-LOCATION:America/Los_Angeles
BEGIN:DAYLIGHT
DTSTART;VALUE=DATE-TIME:20150308T030000
TZNAME:PDT
TZOFFSETFROM:-0800
TZOFFSETTO:-0700
END:DAYLIGHT
END:VTIMEZONE
END:VCALENDAR
