BEGIN:VCALENDAR
VERSION:2.0
PRODID:-//Plone.org//NONSGML plone.app.event//EN
X-WR-TIMEZONE:America/Los_Angeles
BEGIN:VEVENT
SUMMARY:Carbon Market Opportunities for Louisiana’s Coastal Wetlands
DTSTART;TZID=America/Los_Angeles;VALUE=DATE-TIME:20150305T110000
DTEND;TZID=America/Los_Angeles;VALUE=DATE-TIME:20150305T123000
DTSTAMP;VALUE=DATE-TIME:20230513T071944Z
UID:2b1bfee374564ce39da58da2ec98dadf@americancarbonregistry.org
CREATED;VALUE=DATE-TIME:20150211T224129Z
LAST-MODIFIED;VALUE=DATE-TIME:20150315T163035Z
LOCATION:online
URL:https://americancarbonregistry.org/news-events/events/carbon-market-op
 portunities-for-louisiana2019s-coastal-wetlands
END:VEVENT
BEGIN:VTIMEZONE
TZID:America/Los_Angeles
X-LIC-LOCATION:America/Los_Angeles
BEGIN:STANDARD
DTSTART;VALUE=DATE-TIME:20141102T010000
TZNAME:PST
TZOFFSETFROM:-0700
TZOFFSETTO:-0800
END:STANDARD
END:VTIMEZONE
END:VCALENDAR
