BEGIN:VCALENDAR
VERSION:2.0
PRODID:-//Plone.org//NONSGML plone.app.event//EN
X-WR-TIMEZONE:America/Los_Angeles
BEGIN:VEVENT
SUMMARY:Carbon Expo 2016
DTSTART;VALUE=DATE:20160525
DTEND;VALUE=DATE:20160528
DTSTAMP;VALUE=DATE-TIME:20230513T071930Z
UID:fc2cf0f50a2947da9524ab3c5b776ef1@americancarbonregistry.org
CONTACT:www.carbonexpo.com
CREATED;VALUE=DATE-TIME:20160501T222407Z
LAST-MODIFIED;VALUE=DATE-TIME:20160805T223246Z
LOCATION:Cologne\, Germany
URL:https://americancarbonregistry.org/news-events/events/carbon-expo-2016
END:VEVENT
END:VCALENDAR
