BEGIN:VCALENDAR
VERSION:2.0
PRODID:-//Plone.org//NONSGML plone.app.event//EN
X-WR-TIMEZONE:America/Los_Angeles
BEGIN:VEVENT
SUMMARY:Argus California Carbon and LCFS Summit
DTSTART;VALUE=DATE:20161026
DTEND;VALUE=DATE:20161029
DTSTAMP;VALUE=DATE-TIME:20230513T071919Z
UID:73e40a92d9434be48af4694d7be0c638@americancarbonregistry.org
CONTACT:http://argusmedia.com/events/argus-events/americas/california-carb
 on/home/?srcCBA
CREATED;VALUE=DATE-TIME:20160805T222018Z
LAST-MODIFIED;VALUE=DATE-TIME:20160805T223219Z
LOCATION:Napa Valley\, California
URL:https://americancarbonregistry.org/news-events/events/argus-california
 -carbon-and-lcfs-summit
END:VEVENT
END:VCALENDAR
