BEGIN:VCALENDAR
VERSION:2.0
PRODID:-//Plone.org//NONSGML plone.app.event//EN
X-WR-TIMEZONE:America/Los_Angeles
BEGIN:VEVENT
SUMMARY:Argus California Carbon and LCFS Summit 2015
DTSTART;VALUE=DATE:20151005
DTEND;VALUE=DATE:20151008
DTSTAMP;VALUE=DATE-TIME:20230513T071927Z
UID:23f5d980ebc6417fbfe12033e1f5a647@americancarbonregistry.org
CREATED;VALUE=DATE-TIME:20150626T202541Z
LAST-MODIFIED;VALUE=DATE-TIME:20160501T223238Z
LOCATION:Napa Valley\, California
URL:https://americancarbonregistry.org/news-events/events/argus-california
 -carbon-and-lcfs-summit-2015
END:VEVENT
END:VCALENDAR
