BEGIN:VCALENDAR
VERSION:2.0
PRODID:-//Plone.org//NONSGML plone.app.event//EN
X-WR-TIMEZONE:America/Los_Angeles
BEGIN:VEVENT
SUMMARY:Argus California Carbon and LCFS Summit
DTSTART;VALUE=DATE:20171009
DTEND;VALUE=DATE:20171012
DTSTAMP;VALUE=DATE-TIME:20230513T071902Z
UID:351b1d380403402b9ee7ac4f393c2d7c@americancarbonregistry.org
CREATED;VALUE=DATE-TIME:20170724T174842Z
LAST-MODIFIED;VALUE=DATE-TIME:20170724T175227Z
LOCATION:Napa Valley\, California
URL:https://americancarbonregistry.org/news-events/events/argus-california
 -carbon-and-lcfs-summit-1
END:VEVENT
END:VCALENDAR
