BEGIN:VCALENDAR
VERSION:2.0
PRODID:-//Plone.org//NONSGML plone.app.event//EN
X-WR-TIMEZONE:America/Los_Angeles
BEGIN:VEVENT
SUMMARY:ARB Mine Methane Capture Offset Projects – Listing\, Verificatio
 n and Offset Credit Issuance on ACR
DTSTART;TZID=America/Los_Angeles;VALUE=DATE-TIME:20140611T120000
DTEND;TZID=America/Los_Angeles;VALUE=DATE-TIME:20140611T130000
DTSTAMP;VALUE=DATE-TIME:20230513T071935Z
UID:0f4777e90a6545d28f9f754bc19aee5c@acr2.solitonconsulting.com
CREATED;VALUE=DATE-TIME:20140815T193133Z
LAST-MODIFIED;VALUE=DATE-TIME:20140817T180713Z
LOCATION:Online
URL:https://americancarbonregistry.org/news-events/events/arb-mmc-protocol
END:VEVENT
BEGIN:VTIMEZONE
TZID:America/Los_Angeles
X-LIC-LOCATION:America/Los_Angeles
BEGIN:DAYLIGHT
DTSTART;VALUE=DATE-TIME:20140309T030000
TZNAME:PDT
TZOFFSETFROM:-0800
TZOFFSETTO:-0700
END:DAYLIGHT
END:VTIMEZONE
END:VCALENDAR
