BEGIN:VCALENDAR
VERSION:2.0
PRODID:-//Plone.org//NONSGML plone.app.event//EN
X-WR-TIMEZONE:America/Los_Angeles
BEGIN:VEVENT
SUMMARY:American Carbon Registry Methodology for Mississippi Deltaic Wetla
 nd Restoration
DTSTART;TZID=America/Los_Angeles;VALUE=DATE-TIME:20121212T120000
DTEND;TZID=America/Los_Angeles;VALUE=DATE-TIME:20121212T130000
DTSTAMP;VALUE=DATE-TIME:20230513T071856Z
UID:2ffb20ea990742cf914a39c37b2626d2@acr2.solitonconsulting.com
CREATED;VALUE=DATE-TIME:20140817T194618Z
LAST-MODIFIED;VALUE=DATE-TIME:20140817T194627Z
LOCATION:Online
URL:https://americancarbonregistry.org/news-events/events/american-carbon-
 registry-methodology-for-mississippi-deltaic-wetland-restoration
END:VEVENT
BEGIN:VTIMEZONE
TZID:America/Los_Angeles
X-LIC-LOCATION:America/Los_Angeles
BEGIN:STANDARD
DTSTART;VALUE=DATE-TIME:20121104T010000
TZNAME:PST
TZOFFSETFROM:-0700
TZOFFSETTO:-0800
END:STANDARD
END:VTIMEZONE
END:VCALENDAR
