BEGIN:VCALENDAR
VERSION:2.0
PRODID:-//Plone.org//NONSGML plone.app.event//EN
X-WR-TIMEZONE:America/Los_Angeles
BEGIN:VEVENT
SUMMARY:American Carbon Registry and California Early Action Offset Projec
 ts  
DTSTART;TZID=America/Los_Angeles;VALUE=DATE-TIME:20130701T110000
DTEND;TZID=America/Los_Angeles;VALUE=DATE-TIME:20130701T120000
DTSTAMP;VALUE=DATE-TIME:20230513T071917Z
UID:b21d7635b815453ea44c31e672be3e9b@acr2.solitonconsulting.com
CREATED;VALUE=DATE-TIME:20140817T182020Z
LAST-MODIFIED;VALUE=DATE-TIME:20140817T182027Z
LOCATION:Online
URL:https://americancarbonregistry.org/news-events/events/american-carbon-
 registry-and-california-early-action-offset-projects
END:VEVENT
BEGIN:VTIMEZONE
TZID:America/Los_Angeles
X-LIC-LOCATION:America/Los_Angeles
BEGIN:DAYLIGHT
DTSTART;VALUE=DATE-TIME:20130310T030000
TZNAME:PDT
TZOFFSETFROM:-0800
TZOFFSETTO:-0700
END:DAYLIGHT
END:VTIMEZONE
END:VCALENDAR
