BEGIN:VCALENDAR
VERSION:2.0
PRODID:-//Plone.org//NONSGML plone.app.event//EN
X-WR-TIMEZONE:America/Los_Angeles
BEGIN:VEVENT
SUMMARY:Allowance Allocation and Offset Supply in California’s Cap-and T
 rade Program
DTSTART;TZID=America/Los_Angeles;VALUE=DATE-TIME:20131203T120000
DTEND;TZID=America/Los_Angeles;VALUE=DATE-TIME:20131203T130000
DTSTAMP;VALUE=DATE-TIME:20230513T071932Z
UID:3fa97dedaa48414698f4ec2c1f01d91a@acr2.solitonconsulting.com
CREATED;VALUE=DATE-TIME:20140815T194659Z
LAST-MODIFIED;VALUE=DATE-TIME:20140817T194851Z
LOCATION:Online
URL:https://americancarbonregistry.org/news-events/events/allowance-alloca
 tion-and-offset-supply-in-california2019s-cap-and-trade-program
END:VEVENT
BEGIN:VTIMEZONE
TZID:America/Los_Angeles
X-LIC-LOCATION:America/Los_Angeles
BEGIN:STANDARD
DTSTART;VALUE=DATE-TIME:20131103T010000
TZNAME:PST
TZOFFSETFROM:-0700
TZOFFSETTO:-0800
END:STANDARD
END:VTIMEZONE
END:VCALENDAR
