BEGIN:VCALENDAR
VERSION:2.0
PRODID:-//Plone.org//NONSGML plone.app.event//EN
X-WR-TIMEZONE:America/Los_Angeles
BEGIN:VEVENT
SUMMARY:ACR Methodology for N2O Emissions Reductions from Reduced Use of F
 ertilizer
DTSTART;TZID=America/Los_Angeles;VALUE=DATE-TIME:20121115T120000
DTEND;TZID=America/Los_Angeles;VALUE=DATE-TIME:20121115T130000
DTSTAMP;VALUE=DATE-TIME:20230513T071930Z
UID:bf2c9fbee4d04d7681d13f04a1acb633@acr2.solitonconsulting.com
CREATED;VALUE=DATE-TIME:20140817T195327Z
LAST-MODIFIED;VALUE=DATE-TIME:20140817T195339Z
LOCATION:Online
URL:https://americancarbonregistry.org/news-events/events/acr-methodology-
 for-n2o-emissions-reductions-from-reduced-use-of-fertilizer
END:VEVENT
BEGIN:VTIMEZONE
TZID:America/Los_Angeles
X-LIC-LOCATION:America/Los_Angeles
BEGIN:STANDARD
DTSTART;VALUE=DATE-TIME:20121104T010000
TZNAME:PST
TZOFFSETFROM:-0700
TZOFFSETTO:-0800
END:STANDARD
END:VTIMEZONE
END:VCALENDAR
