BEGIN:VCALENDAR
VERSION:2.0
PRODID:-//Plone.org//NONSGML plone.app.event//EN
X-WR-TIMEZONE:America/Los_Angeles
BEGIN:VEVENT
SUMMARY:ACR Methodology for Emissions Reductions in Rice ManagementSystems
  – California and Mid-South Modules
DTSTART;TZID=America/Los_Angeles;VALUE=DATE-TIME:20130716T110000
DTEND;TZID=America/Los_Angeles;VALUE=DATE-TIME:20130716T120000
DTSTAMP;VALUE=DATE-TIME:20230513T071901Z
UID:2fe062c974a7478eb37202054af12e9c@acr2.solitonconsulting.com
CREATED;VALUE=DATE-TIME:20140817T182253Z
LAST-MODIFIED;VALUE=DATE-TIME:20140817T182312Z
LOCATION:Online
URL:https://americancarbonregistry.org/news-events/events/acr-methodology-
 for-emissions-reductions-in-rice-managementsystems-2013-california-and-mid
 -south-modules
END:VEVENT
BEGIN:VTIMEZONE
TZID:America/Los_Angeles
X-LIC-LOCATION:America/Los_Angeles
BEGIN:DAYLIGHT
DTSTART;VALUE=DATE-TIME:20130310T030000
TZNAME:PDT
TZOFFSETFROM:-0800
TZOFFSETTO:-0700
END:DAYLIGHT
END:VTIMEZONE
END:VCALENDAR
