BEGIN:VCALENDAR
VERSION:2.0
PRODID:-//Plone.org//NONSGML plone.app.event//EN
X-WR-TIMEZONE:America/Los_Angeles
BEGIN:VEVENT
SUMMARY:ACR Invites Stakeholder Feedback on a Methodology for Emissions Re
 ductions from Biochar Projects 
DTSTART;TZID=America/Los_Angeles;VALUE=DATE-TIME:20131028T120000
DTEND;TZID=America/Los_Angeles;VALUE=DATE-TIME:20131028T130000
DTSTAMP;VALUE=DATE-TIME:20230513T071939Z
UID:470401261a0e46038f3f28f86cc63841@acr2.solitonconsulting.com
CREATED;VALUE=DATE-TIME:20140817T193924Z
LAST-MODIFIED;VALUE=DATE-TIME:20140817T195514Z
LOCATION:Online
URL:https://americancarbonregistry.org/news-events/events/acr-methodology-
 for-emissions-reductions-from-biochar-projects
END:VEVENT
BEGIN:VTIMEZONE
TZID:America/Los_Angeles
X-LIC-LOCATION:America/Los_Angeles
BEGIN:DAYLIGHT
DTSTART;VALUE=DATE-TIME:20130310T030000
TZNAME:PDT
TZOFFSETFROM:-0800
TZOFFSETTO:-0700
END:DAYLIGHT
END:VTIMEZONE
END:VCALENDAR
