BEGIN:VCALENDAR
VERSION:2.0
PRODID:-//Plone.org//NONSGML plone.app.event//EN
X-WR-TIMEZONE:America/Los_Angeles
BEGIN:VEVENT
SUMMARY:ACR Invites Stakeholder Feedback on a Methodology for Reduced Carb
 on Intensity of Fed Cattle
DTSTART;TZID=America/Los_Angeles;VALUE=DATE-TIME:20130919T120000
DTEND;TZID=America/Los_Angeles;VALUE=DATE-TIME:20130919T130000
DTSTAMP;VALUE=DATE-TIME:20230513T071939Z
UID:aec2ac2c0d6a463fb50c9f4d4f56e743@acr2.solitonconsulting.com
CREATED;VALUE=DATE-TIME:20140817T193644Z
LAST-MODIFIED;VALUE=DATE-TIME:20140817T193652Z
LOCATION:Online
URL:https://americancarbonregistry.org/news-events/events/acr-invites-stak
 eholder-feedback-on-a-methodology-for-reduced-carbon-intensity-of-fed-catt
 le
END:VEVENT
BEGIN:VTIMEZONE
TZID:America/Los_Angeles
X-LIC-LOCATION:America/Los_Angeles
BEGIN:DAYLIGHT
DTSTART;VALUE=DATE-TIME:20130310T030000
TZNAME:PDT
TZOFFSETFROM:-0800
TZOFFSETTO:-0700
END:DAYLIGHT
END:VTIMEZONE
END:VCALENDAR
