BEGIN:VCALENDAR
VERSION:2.0
PRODID:-//Plone.org//NONSGML plone.app.event//EN
X-WR-TIMEZONE:America/Los_Angeles
BEGIN:VEVENT
SUMMARY:ACR Invites Stakeholder Feedback on a Methodology for Carbon Captu
 re and Storage
DTSTART;TZID=America/Los_Angeles;VALUE=DATE-TIME:20130118T120000
DTEND;TZID=America/Los_Angeles;VALUE=DATE-TIME:20130118T130000
DTSTAMP;VALUE=DATE-TIME:20230513T071856Z
UID:e8119c530a7e407d95b72b8b3b1ed3e3@acr2.solitonconsulting.com
CREATED;VALUE=DATE-TIME:20140817T191959Z
LAST-MODIFIED;VALUE=DATE-TIME:20140817T192013Z
LOCATION:Online
URL:https://americancarbonregistry.org/news-events/events/acr-invites-stak
 eholder-feedback-on-a-methodology-for-carbon-capture-and-storage
END:VEVENT
BEGIN:VTIMEZONE
TZID:America/Los_Angeles
X-LIC-LOCATION:America/Los_Angeles
BEGIN:STANDARD
DTSTART;VALUE=DATE-TIME:20121104T010000
TZNAME:PST
TZOFFSETFROM:-0700
TZOFFSETTO:-0800
END:STANDARD
END:VTIMEZONE
END:VCALENDAR
