BEGIN:VCALENDAR
VERSION:2.0
PRODID:-//Plone.org//NONSGML plone.app.event//EN
X-WR-TIMEZONE:America/Los_Angeles
BEGIN:VEVENT
SUMMARY:ACR Invites Stakeholder Feedback on a Methodology for Grazing Land
  and Livestock Management 
DTSTART;TZID=America/Los_Angeles;VALUE=DATE-TIME:20130122T120000
DTEND;TZID=America/Los_Angeles;VALUE=DATE-TIME:20130122T130000
DTSTAMP;VALUE=DATE-TIME:20230513T071945Z
UID:e0b4e89094394b1daa6910861c96489c@acr2.solitonconsulting.com
CREATED;VALUE=DATE-TIME:20140817T192738Z
LAST-MODIFIED;VALUE=DATE-TIME:20140817T195014Z
LOCATION:Online
URL:https://americancarbonregistry.org/news-events/events/acr-invites-stak
 eholder-feedback-on-a-ethodology-for-grazing-land-and-livestock-management
END:VEVENT
BEGIN:VTIMEZONE
TZID:America/Los_Angeles
X-LIC-LOCATION:America/Los_Angeles
BEGIN:STANDARD
DTSTART;VALUE=DATE-TIME:20121104T010000
TZNAME:PST
TZOFFSETFROM:-0700
TZOFFSETTO:-0800
END:STANDARD
END:VTIMEZONE
END:VCALENDAR
