BEGIN:VCALENDAR
VERSION:2.0
PRODID:-//Plone.org//NONSGML plone.app.event//EN
X-WR-TIMEZONE:America/Los_Angeles
BEGIN:VEVENT
SUMMARY:ACR Invites Stakeholder Feedback on Methodology for Avoided Conver
 sion of Grasslands and Shrublands
DTSTART;TZID=America/Los_Angeles;VALUE=DATE-TIME:20121114T000000
DTEND;TZID=America/Los_Angeles;VALUE=DATE-TIME:20121114T233000
DTSTAMP;VALUE=DATE-TIME:20230513T071923Z
UID:167d35205ec14bf297ae2f343d87a586@acr2.solitonconsulting.com
CREATED;VALUE=DATE-TIME:20140815T160804Z
LAST-MODIFIED;VALUE=DATE-TIME:20140817T181206Z
LOCATION:Online
URL:https://americancarbonregistry.org/news-events/events/acogs
END:VEVENT
BEGIN:VTIMEZONE
TZID:America/Los_Angeles
X-LIC-LOCATION:America/Los_Angeles
BEGIN:STANDARD
DTSTART;VALUE=DATE-TIME:20121104T010000
TZNAME:PST
TZOFFSETFROM:-0700
TZOFFSETTO:-0800
END:STANDARD
END:VTIMEZONE
END:VCALENDAR
